Workbook
Name otherfund: '[1]Other Funding Streams'!$A$4:$U$61

Sheet Notes
A1: 24/25 BUDGET MONTHLY MONITORING & FORECASTING REPORT
A2: NOTES
A4: Cell/ Column | B4: Notes
B5: Budget monitoring should be based on the monthly CFR report. Even if you are an FMS school, the CFR report should be the foundation for your budget monitoring. If you are finding there are significant differences, then think about the timings of your monthly imprests (ie towards the end of the month is better than right at the beginning - but allow time for central processing).
B6: This template should be used as a forecasting tool from Month 6 at the latest by populating Column H with an updated projected outturn. Include notes in Column F.
B7: If there are any rows you don't need, please let us know and we can hide these.
B8: For some cells, we have included the Agresso ledger codes in an embedded note for clarity (eg c/f in row 9 is y11 8198)
A9: A2 | B9: Choose the appropriate month from the drop down box. This will automatically populate cell E27 with the expected % spend to date (eg September is Month 6, so spend to date is expected to be around 50%)
A10: B3 | B10: Name of School
A11: D3 | B11: School Cost Centre
A12: Rows 7 to 22 | B12: Provides a high level summary to Governors per the budget plan and the forecast for the year end. The only figure you need to input is the YE balance b/f from 23/24 (cell C9)
A13: F1:I5 | B13: NOR is so important for a school in understanding and forecasting its financial position. Use Row 3 for main school for Oct 22, Oct 23 and expected NOR for Oct 24. This will highlight any significant changes to Governors and enable timely planning. For Nursery and Resource Unit, you may wish to include Oct census, or Jan census or termly figures (eg 16/20/25) - just note what you have done. If you do not have a Nursery or Resource Unit, let us know and we can hide Rows 4 & 5.
A14: Column A | B14: Shows the CFR references. If in doubt about what expenditure or income should be included where, please refer to the DfE's CFR Framework (https://www.gov.uk/guidance/consistent-financial-reporting-framework-2024-to-2025). Remember, netting off of income and expenditure is NOT allowed (eg trip income and trip expenditure should be shown separately under the relevant I or E code).
A15: Column C | B15: Populate with the figures in your original budget plan. Adjust this if any virements have been posted in month
A16: Column D | B16: Populate with your monthly figures per your CFR report.
A17: Column E | B17: For Expenditure, this column shows the actual % spend to date. Where this is above the expected %, the cell will be automatically highlighted (apart from known one-off costs, eg Rates, Insurance, SLAs).
B18: For Income, this column shows the variance between the Budget plan and income received to date (as this may not be evenly spread over the year). Positive where actual is > budget; negative where actual < budget.
A19: Column F | B19: Include notes where spend has been under or over expected % to date; or where the projected outturn differs from the budget plan.
A20: Column H | B20: From at least Month 6 onwards (September CFR) include a projected outturn. For each row, consider whether this should be per the budget plan or whether this should be adjusted for known commitments or a significant over/underspend to date.
A21: Column I | B21: Will show the amount by which the Projected Outturn differs to the Budget Plan
A22: Rows 25-62 | B22: Expenditure per the CFR codes
A23: Rows 65-100 | B23: Total Revenue Income' - the DfE refers to 'Total Revenue Income', "TRI" (ie, all the CFR "I" codes) rather than "Budget" or "Net Expenditure". TRI is split into 2 sections: 'Grant Funding' (funding received directly from the Government) and 'Self-Generated Income' (income that the School is able to generate, e.g. Rent, Donations, Parental Contributions). The template has been updated to reflect this. Remember I03 Top-up funding and I05b Pupil Premium OLA are both classified as 'Grant Funding' by the DfE, but Agresso shows them separately from main grant funding (because the accounting on the system works slightly differently for money that is invoiced for).
A24: E87 | B24: Grant Funding - total variance. This should equal the CFR 'Plan Variance' if you exclude I03, I05B and I18A
A25: C21 | B25: "Contingency" - note that Contingency is a 'Reserve' and not and 'Expenditure' line in the budget plan. It is effectively the expected year end balance and is therefore shown here under the 'Surplus/Deficit' position.
A27: STAFFING METRICS
A28: The Integrated Curriculum and Financial Planning methodology ("ICFP") includes 12 metrics that are useful for monitoring the financial resilience of a School's budget and 3 year plans. We have included some here that can be directly generated from the budget plan/CFR report.
A29: Remember that the metrics are just a useful starting point for discussion and a tool to enable a school to ensure its financial resilience.
A30: It may be useful to download historic data for the School from the Benchmarking Website and track the trend over the last 5 years.
A31: The following data is used for the metrics:
A32: "TRI" Total Revenue Income | B32: All the CFR "I" codes, ie Total Grant Funding + Total Self-Generated Income
A33: "TTC" Total Teaching Staff Costs | B33: E01 + E02 + E26 + any teaching staff costs included in another CFR code (eg an external head; language teachers under E28). Teaching staff costs includes non-classroom based teachers (eg leadership).
A34: "CSC" Curriculum Staff Costs | B34: E03, ie the costs of TAs and HLTAs.
A35: "NCSC" Non-Curriculum Staff Costs | B35: E04 + E05 + E06 + E07. Where services are externally contracted (eg cleaning, catering, etc), include the labour cost under NCSC.
A36: Total Staff Costs | B36: TTC + CSC + NCSC. We would also suggest including E08 to E11. So, Total Staff Costs = E01 to E11 + E26 + any adjustments for staff costs included in cleaning, catering contracts, etc and any external teachers under E28.
A37: C138, 139 | B37: FTE Teachers is needed to calculate some of the staffing ratios - include just the main school teachers in C138. If you have a nursery/RU, include them + main school in C137
A38: C140 | B38: No of Classes (main school only, ie ignoring nursery, RU, etc).
A39: Benchmarks
A40: Total Staff Costs | B40: Primary Schools 75-78% of TRI; Secondary Schools 72-75% of TRI. Any higher, and the school will struggle to cover its fixed costs as well as invest in longer term resources, eg buildings, IT, etc. Cell will show Red if this is over 78%.
A41: Total Teaching Costs | B41: Primary Schools 45-49% of TRI; Secondary Schools 49-54% of TRI. Cell will show Red if this is over 50%
A42: Curriculum Staff Costs | B42: Primary Schools > 18% of TRI; Secondary Schools > 12%. Cell will show Red if this is over 18%
...

Sheet Monitoring
A1: 24/25 BUDGET MONTHLY MONITORING & FORECASTING REPORT | F1: SUMMARY OF NUMBER ON ROLL
A2: NOVEMBER | B2: YEAR TO DATE REVIEW | G2: 44835 | H2: 45200 | I2: 45566
A3: SCHOOL | B3: Holy Trinity Primary S'dale | C3: Cost Centre | D3: FAWB | F3: NOR Main School | G3: 212 | H3: 207 | I3: 208
F4: NOR Nursery | G4: 0 | H4: 0 | I4: 0
F5: NOR Resource Unit | G5: 0 | H5: 0 | I5: 0
A7: SUMMARY POSITION | C7: 24/25 BUDGET PLAN (£) | D7: =A2 -> NOVEMBER | H7: 24/25 PROJECTED OUTTURN (£)
D8: YTD (from CFR report) (£)
A9: 23/24 SURPLUS/(DEFICIT) B/F | C9: 5697 | D9: =C9 -> 5697 | H9: =C9 -> 5697
A11: Grant Funding | C11: =C87 -> 1105546 | D11: =D87 -> 1107662 | H11: =H87 -> 1129016 | I11: =H11-C11 -> 23470
A12: Self-Generated Income | C12: =C99 -> 83398 | D12: =D99 -> 81722 | H12: =H99 -> 83398 | I12: =H12-C12 -> 0
A13: TOTAL REVENUE INCOME | C13: =SUM(C11:C12) -> 1188944 | D13: =SUM(D11:D12) -> 1189384 | H13: =SUM(H11:H12) -> 1212414
A15: Staffing Costs | C15: =-C39 -> -1027306 | D15: =-D39 -> -691812 | H15: =-H39 -> -1013298 | I15: =H15-C15 -> 14008
A16: Non-Staffing Costs | C16: =-C60 -> -231754 | D16: =-D60 -> -196695 | H16: =-H60 -> -234914 | I16: =H16-C16 -> -3160
A17: TOTAL EXPENDITURE | C17: =SUM(C15:C16) -> -1259060 | D17: =SUM(D15:D16) -> -888507 | H17: =SUM(H15:H16) -> -1248212
A19: IN-YEAR BALANCE (TRI less Expenditure) | C19: =C13+C17 -> -70116 | D19: =D13+D17 -> 300877 | H19: =H13+H17 -> -35798 | I19: =H19-C19 -> 34318
A21: 24/25 SURPLUS/(DEFICIT) C/F | C21: =C9+C19 -> -64419 | D21: =D9+D19 -> 306574 | H21: =H9+H19 -> -30101
A25: EXPENDITURE
A26: CFR REF | C26: 24/25 BUDGET PLAN (£) | D26: =A2 -> NOVEMBER | E26: =IF(A2="APRIL",C107,IF(A2="MAY",C108,IF(A2="JUNE",C109,IF(A2="JULY",C110,IF(A2="AUGUST",C111,IF(A2="SEPTEMBER",C112,IF(A2="OCTOBER",C113,IF(A2="NOVEMBER",C114,IF(A2="DECEMBER",C115,IF(A2="JANUARY",C116,IF(A2="FEBRUARY",C117,IF(A2="MARCH",C118)))))))))))) -> 8 mths | F26: Notes (spend over/under expected %) | H26: 24/25 PROJECTED OUTTURN (£) | I26: Variance: More/(less) than budget (£)
D27: YTD (from CFR report) (£) | E27: =IF(A2="APRIL",B107,IF(A2="MAY",B108,IF(A2="JUNE",B109,IF(A2="JULY",B110,IF(A2="AUGUST",B111,IF(A2="SEPTEMBER",B112,IF(A2="OCTOBER",B113,IF(A2="NOVEMBER",B114,IF(A2="DECEMBER",B115,IF(A2="JANUARY",B116,IF(A2="FEBRUARY",B117,IF(A2="MARCH",B118)))))))))))) -> 0.66666667 | K27: Manual Adjs
A28: E01 | B28: Total Teaching Staff | C28: 636632 | D28: 421229 | E28: =IF(AND(C28<1,D28>0),"Overspend",D28/C28) -> 0.66165226 | H28: 645250 | I28: =H28-C28 -> 8618
A29: E02 | B29: Total Supply Staff | C29: 5000 | D29: 1400 | E29: =IF(AND(C29<1,D29>0),"Overspend",D29/C29) -> 0.28 | H29: 5000 | I29: =H29-C29 -> 0
A30: E03 | B30: Total Educational Support Staff | C30: 266362 | D30: 157925 | E30: =IF(AND(C30<1,D30>0),"Overspend",D30/C30) -> 0.59289613 | F30: Budget includes staff severance pay | H30: 213777 | I30: =H30-C30 -> -52585
A31: E04 | B31: Total Premises Staff | C31: 36190 | D31: 24505 | E31: =IF(AND(C31<1,D31>0),"Overspend",D31/C31) -> 0.67712075 | H31: 36758 | I31: =H31-C31 -> 568
A32: E05 | B32: Total Admin & Clerical Staff | C32: 66009 | D32: 45609 | E32: =IF(AND(C32<1,D32>0),"Overspend",D32/C32) -> 0.69095123 | H32: 66403 | I32: =H32-C32 -> 394
A33: E06 | B33: Total Kitchen Staff | E33: =IF(AND(C33<1,D33>0),"Overspend",D33/C33) -> #DIV/0! | I33: =H33-C33 -> 0
A34: E07 | B34: Total Other Staff | C34: 5528 | D34: 4487 | E34: =IF(AND(C34<1,D34>0),"Overspend",D34/C34) -> 0.81168596 | H34: 5850 | I34: =H34-C34 -> 322
A35: E08 | B35: Total Indirect Employee Expenses | C35: 500 | D35: 29175 | E35: =IF(AND(C35<1,D35>0),"Overspend",D35/C35) -> 58.35 | F35: Staff Severance Pay | H35: 29175 | I35: =H35-C35 -> 28675
A36: E09 | B36: Total Staff Development & Training | C36: 5000 | D36: 1397 | E36: =IF(AND(C36<1,D36>0),"Overspend",D36/C36) -> 0.2794 | H36: 5000 | I36: =H36-C36 -> 0
A37: E10 | B37: Total Supply Teacher Insurance | C37: 3664 | D37: 3664 | E37: =IF(AND(C37<1,D37>0),"Overspend",D37/C37) -> 1 | H37: 3664 | I37: =H37-C37 -> 0
A38: E11 | B38: Total Staff Related Insurance | C38: 2421 | D38: 2421 | E38: =IF(AND(C38<1,D38>0),"Overspend",D38/C38) -> 1 | H38: 2421 | I38: =H38-C38 -> 0
A39: Total Staff Costs | C39: =SUM(C28:C38) -> 1027306 | D39: =SUM(D28:D38) -> 691812 | E39: =IF(AND(C39<1,D39>0),"Overspend",D39/C39) -> 0.6734235 | H39: =SUM(H28:H38) -> 1013298 | I39: =H39-C39 -> -14008
A40: E12 | B40: Total Building Maint/Improvement | C40: 25000 | D40: 25782 | E40: =IF(AND(C40<1,D40>0),"Overspend",D40/C40) -> 1.03128 | H40: 28000 | I40: =H40-C40 -> 3000
A41: E13 | B41: Total Grounds Maintenance | C41: 7000 | D41: 4667 | E41: =IF(AND(C41<1,D41>0),"Overspend",D41/C41) -> 0.66671429 | H41: 7000 | I41: =H41-C41 -> 0
A42: E14 | B42: Total Cleaning & Caretaking | C42: 3400 | D42: 2648 | E42: =IF(AND(C42<1,D42>0),"Overspend",D42/C42) -> 0.77882353 | H42: 3400 | I42: =H42-C42 -> 0
A43: E15 | B43: Total Water & Sewerage | C43: 781 | D43: 454 | E43: =IF(AND(C43<1,D43>0),"Overspend",D43/C43) -> 0.58130602 | H43: 781 | I43: =H43-C43 -> 0
A44: E16 | B44: Total Energy | C44: 20000 | D44: 11357 | E44: =IF(AND(C44<1,D44>0),"Overspend",D44/C44) -> 0.56785 | F44: Includes new gas meter/line (Diocese to reimburse) | H44: 20000 | I44: =H44-C44 -> 0
A45: E17 | B45: Total Rates (Nurseries only) | E45: =IF(AND(C45<1,D45>0),"Overspend",D45/C45) -> #DIV/0! | I45: =H45-C45 -> 0
A46: E18 | B46: Total Other Occupation Costs | C46: 1506 | D46: 1661 | E46: =IF(AND(C46<1,D46>0),"Overspend",D46/C46) -> 1.1029216 | H46: 1661 | I46: =H46-C46 -> 155
A47: E19 | B47: Total Learning Resources (not ICT) | C47: 61000 | D47: 57340 | E47: =IF(AND(C47<1,D47>0),"Overspend",D47/C47) -> 0.94 | H47: 61000 | I47: =H47-C47 -> 0
A48: E20A-G | B48: Total ICT Learning Resources | C48: 22421 | D48: 16441 | E48: =IF(AND(C48<1,D48>0),"Overspend",D48/C48) -> 0.73328576 | H48: 22421 | I48: =H48-C48 -> 0
...

Sheet NOR
A1: NAME OF SCHOOL
A2: NOR CALCULATIONS
A4: NOR per original Budget Plan (May 24 workings) | M4: Per Original Budget
G5: KS1 | I5: KS2
A6: Census Date | B6: Basis for Funding in FY | C6: Year of Plan | D6: Nursery | F6: Reception | G6: Y1 | H6: Y2 | I6: Y3 | J6: Y4 | K6: Y5 | L6: Y6 | M6: Total (excl nursery)
A7: October 23 | B7: 2024/25 | C7: Y1 | M7: =SUM(F7:L7) -> 0
A8: October 24 | B8: 2025/26 | C8: Y2 | M8: =SUM(F8:L8) -> 0
A9: October 25 | B9: 2026/27 | C9: Y3 | M9: =SUM(F9:L9) -> 0
A12: Future planning template
A13: October 24 | B13: 2025/26 | C13: Y2 | M13: =SUM(F13:L13) -> 0 | O13: Oct 23 census =
A14: October 25 | B14: 2026/27 | C14: Y3 | M14: =SUM(F14:L14) -> 0
A15: October 26 | B15: 2027/28 | C15: Y4 | M15: =SUM(F15:L15) -> 0
A16: October 27 | B16: 2028/29 | C16: Y5 | M16: =SUM(F16:L16) -> 0

Sheet E Budget
A1: =Monitoring!B3 -> Holy Trinity Primary S'dale | C1: =Monitoring!C26 -> 24/25 BUDGET PLAN (£) | E1: =Monitoring!D26 -> NOVEMBER | F1: Notes (spend over/under expected %) | G1: =Monitoring!H26 -> 24/25 PROJECTED OUTTURN (£)
A2: CLUBS BUDGET | E2: =Monitoring!D27 -> YTD (from CFR report) (£)
C3: £ | E3: £ | G3: £
A4: EXPENDITURE
A5: E03 | B5: Total Educational Support Staff
A6: E05 | B6: Total Admin & Clerical Staff
A7: E08 | B7: Total Indirect Employee Expenses
A8: E09 | B8: Total Staff Development & Training
A9: E19 | B9: Total Learning Resources (not ICT)
A10: E25 | B10: Total Catering Supplies
A11: E28 | B11: Total Other Bought in Services
C12: =SUM(C5:C11) -> 0 | E12: =SUM(E5:E11) -> 0 | G12: =SUM(G5:G11) -> 0
A13: INCOME
A14: I08B | B14: Other income from facilities and services
A15: I13 | B15: Grants income
C16: =SUM(C14) -> 0 | E16: =SUM(E14:E15) -> 0 | G16: =SUM(G14:G15) -> 0
A18: IN-YEAR POSITION | C18: =C16-C12 -> 0 | E18: =E16-E12 -> 0 | G18: =G16-G12 -> 0
A21: SURPLUS/(DEFICIT) POSITION
A22: 23/24 SURPLUS/(DEFICIT) B/F
A23: IN-YEAR BALANCE (TRI less Expenditure) | C23: =C18 -> 0 | G23: =G18 -> 0
A24: 24/25 SURPLUS "CONTINGENCY"/(DEFICIT) C/F | C24: =SUM(C22:C23) -> 0 | G24: =SUM(G22:G23) -> 0

Sheet Balances
A1: ANALYSIS OF BALANCES | D1: SCHOOL: | E1: =Monitoring!B3 -> Holy Trinity Primary S'dale | H1: Cost Centre: | I1: =Monitoring!D3 -> FAWB
A2: 2024-25
B3: £
A4: Balances at 1.4.24 | B4: =Monitoring!C9 -> 5697
A6: Uncommitted Balances | C6: Max: Secondary 5% of Budget Share; Primary 8% of Budget Share
A7: Committed Balances | C7: Should agree to Balance Control Mechanism submission
A9: Balances at 1.4.24 | B9: =SUM(B6:B8) -> 0
B10: =IF(B9=B4,"","ERROR") -> ERROR
E11: Costs in 2024-25 Budget Plan
A12: COMMITTED BALANCES | B12: b/f at 1.4.24 | C12: SDP Reference | D12: Expected Yrs of project | E12: eg E19 | F12: eg E21 | G12: E | H12: E | I12: E | J12: c/f at 31.3.25
B13: £ | E13: £ | F13: £ | G13: £ | H13: £ | I13: £ | J13: £
A14: eg IT Project | J14: =B14-SUM(E14:I14) -> 0
A15: Library Project | J15: =B15-SUM(E15:I15) -> 0
A16: etc | J16: =B16-SUM(E16:I16) -> 0
J17: =B17-SUM(E17:I17) -> 0
J18: =B18-SUM(E18:I18) -> 0
J19: =B19-SUM(E19:I19) -> 0
J20: =B20-SUM(E20:I20) -> 0
J21: =B21-SUM(E21:I21) -> 0
J22: =B22-SUM(E22:I22) -> 0
J23: =B23-SUM(E23:I23) -> 0
J24: =B24-SUM(E24:I24) -> 0
J25: =B25-SUM(E25:I25) -> 0
J26: =B26-SUM(E26:I26) -> 0
J27: =B27-SUM(E27:I27) -> 0
J28: =B28-SUM(E28:I28) -> 0
... J30: =B30-SUM(E30:I30) -> 0
B32: =SUM(B14:B30) -> 0 | J32: =SUM(J14:J30) -> 0
B33: =IF(B32=B7,"","ERROR")
A34: Please refer to the DfE's Consistent Financial Reporting Framework for appropriate use of Committed Balances.
A35: Committed Balances should tie into the School Development Plan.
A36: This might include:
A37: Specific grants carried forward from one financial year to the next (particularly when they relate to an academic year) eg Pupil Premium, Coronavirus Catch-up Funding, etc
A38: A planned investment projects, eg IT investment, improvements to the site and buildings, etc. These projects should be specifically agreed in the School Development Plan and include a start date and expected time to completion
A39: Significant and known short-term changes to pupil numbers (eg Garrison changes)
A40: Staffing - only where there are specific short-term and one-off costs in response to needs identified by Ofsted or as a result of staff restructuring.

Sheet Salary inputs
A1: SALARY INPUT
A3: Please complete yellow cells; grey cells are formulated
A4: Column B: Input monthly salary totals from CFR report
A5: Column D: Include any manual adjustments to 'normalise' the month (eg deduct any one-off timesheets, etc)
A6: Column E: This will automatically calculate a 'normal' month to be used for projections
A7: Column G: to be used for any other known adjustments required
A8: Column H: Calculates a projection for the remaining months
A10: Month | B10: =Monitoring!A2 -> NOVEMBER
B12: Monthly spend | D12: Manual adj | E12: Normalised Mthly | G12: Any other manual adjustments | H12: Projection for remaining mths
B13: £ | D13: £ | E13: £ | G13: £ | H13: £
A15: E01 | E15: =SUM(B15:D15) -> 0 | H15: =E15*$B$25+G15 -> 0
A16: E02 | E16: =SUM(B16:D16) -> 0 | H16: =E16*$B$25+G16 -> 0
A17: E03 | E17: =SUM(B17:D17) -> 0 | H17: =E17*$B$25+G17 -> 0
A18: E04 | E18: =SUM(B18:D18) -> 0 | H18: =E18*$B$25+G18 -> 0
A19: E05 | E19: =SUM(B19:D19) -> 0 | H19: =E19*$B$25+G19 -> 0
A20: E06 | E20: =SUM(B20:D20) -> 0 | H20: =E20*$B$25+G20 -> 0
A21: E07 | E21: =SUM(B21:D21) -> 0 | H21: =E21*$B$25+G21 -> 0
B22: =SUM(B15:B21) -> 0 | D22: =SUM(D15:D21) -> 0 | E22: =SUM(E15:E21) -> 0
A24: Months to date | B24: =VLOOKUP($B$10,$A$28:$B$39,2) -> 8
A25: Months remaining | B25: =12-B24 -> 4
A28: April | B28: 1
A29: August | B29: 5
A30: December | B30: 9
A31: February | B31: 11
A32: January | B32: 10
A33: July | B33: 4
A34: June | B34: 3
A35: March | B35: 12
A36: MAY | B36: 2
A37: November | B37: 8
A38: October | B38: 7
A39: September | B39: 6
